BEGIN:VCALENDAR
VERSION:2.0
PRODID:icalendar-ruby
CALSCALE:GREGORIAN
METHOD:PUBLISH
BEGIN:VEVENT
DTSTAMP:20260424T215201Z
UID:1-833271@nowchurchinc.com
DTSTART:20260912T000000Z
DTEND:20260912T010000Z
CLASS:PUBLIC
CREATED:20260424T151650
DESCRIPTION:Join Bible Study\n 
LAST-MODIFIED:20260424T151650
LOCATION:
SUMMARY:Men's Bible Study
URL;VALUE=URI:https://www.nowchurchinc.com/events/mens-bible-study/2026-09-
 11
ATTACH;FILENAME=Office-meeting---2048x1366.jpg;FMTTYPE=image/jpeg:https://d
 q5pwpg1q8ru0.cloudfront.net/2023/02/20/13/27/04/20bd4dce-b352-4596-9692-b3
 9decdf5766/Office-meeting---2048x1366.jpg
END:VEVENT
END:VCALENDAR
