BEGIN:VCALENDAR
VERSION:2.0
PRODID:icalendar-ruby
CALSCALE:GREGORIAN
METHOD:PUBLISH
BEGIN:VEVENT
DTSTAMP:20260424T213341Z
UID:5-833507@nowchurchinc.com
DTSTART:20260913T150000Z
DTEND:20260913T170000Z
CLASS:PUBLIC
CREATED:20260424T151650
DESCRIPTION:Sunday Worship Experience
LAST-MODIFIED:20260424T151650
LOCATION:
SUMMARY:Sunday Worship Experience
URL;VALUE=URI:https://www.nowchurchinc.com/events/sunday-worship-experience
 /2026-09-13
END:VEVENT
END:VCALENDAR
