BEGIN:VCALENDAR
VERSION:2.0
PRODID:icalendar-ruby
CALSCALE:GREGORIAN
METHOD:PUBLISH
BEGIN:VEVENT
DTSTAMP:20260424T230530Z
UID:5-834117@nowchurchinc.com
DTSTART:20260920T150000Z
DTEND:20260920T170000Z
CLASS:PUBLIC
CREATED:20260424T180434
DESCRIPTION:Sunday Worship Experience
LAST-MODIFIED:20260424T180434
LOCATION:
SUMMARY:Sunday Worship Experience
URL;VALUE=URI:https://www.nowchurchinc.com/events/sunday-worship-experience
 /2026-09-20
END:VEVENT
END:VCALENDAR
