BEGIN:VCALENDAR
VERSION:2.0
PRODID:icalendar-ruby
CALSCALE:GREGORIAN
METHOD:PUBLISH
BEGIN:VEVENT
DTSTAMP:20260425T005033Z
UID:5-834118@nowchurchinc.com
DTSTART:20260927T150000Z
DTEND:20260927T170000Z
CLASS:PUBLIC
CREATED:20260424T180434
DESCRIPTION:Sunday Worship Experience
LAST-MODIFIED:20260424T180434
LOCATION:
SUMMARY:Sunday Worship Experience
URL;VALUE=URI:https://www.nowchurchinc.com/events/sunday-worship-experience
 /2026-09-27
END:VEVENT
END:VCALENDAR
