BEGIN:VCALENDAR
VERSION:2.0
PRODID:icalendar-ruby
CALSCALE:GREGORIAN
METHOD:PUBLISH
BEGIN:VEVENT
DTSTAMP:20260425T023138Z
UID:5-834729@nowchurchinc.com
DTSTART:20261004T150000Z
DTEND:20261004T170000Z
CLASS:PUBLIC
CREATED:20260424T205320
DESCRIPTION:Sunday Worship Experience
LAST-MODIFIED:20260424T205320
LOCATION:
SUMMARY:Sunday Worship Experience
URL;VALUE=URI:https://www.nowchurchinc.com/events/sunday-worship-experience
 /2026-10-04
END:VEVENT
END:VCALENDAR
